BEGIN:VCALENDAR
VERSION:2.0
PRODID:-//Arouet Foundation - ECPv6.15.18//NONSGML v1.0//EN
CALSCALE:GREGORIAN
METHOD:PUBLISH
X-ORIGINAL-URL:https://arouetempowers.org
X-WR-CALDESC:Events for Arouet Foundation
REFRESH-INTERVAL;VALUE=DURATION:PT1H
X-Robots-Tag:noindex
X-PUBLISHED-TTL:PT1H
BEGIN:VTIMEZONE
TZID:America/Phoenix
BEGIN:STANDARD
TZOFFSETFROM:-0700
TZOFFSETTO:-0700
TZNAME:MST
DTSTART:20180101T000000
END:STANDARD
END:VTIMEZONE
BEGIN:VEVENT
DTSTART;TZID=America/Phoenix:20251108T073000
DTEND;TZID=America/Phoenix:20251108T110000
DTSTAMP:20260424T061557
CREATED:20251027T171306Z
LAST-MODIFIED:20251027T171306Z
UID:13543-1762587000-1762599600@arouetempowers.org
SUMMARY:Phoenix Walk to End Alzheimer's
DESCRIPTION:At Arouet\, we believe that building stronger futures means understanding and supporting the communities around us. Learning about Alzheimer’s disease and other dementias helps our participants recognize how these conditions affect families\, workplaces\, and society as a whole. Many of our participants are caregivers\, have loved ones impacted by memory loss\, or work in industries where understanding dementia is vital. \nWe’re proud to stand alongside those affected by Alzheimer’s by walking\, raising awareness\, and sharing knowledge. Supporting causes like this reflects our core values—compassion\, empowerment\, and connection. \nBy walking with Arouet’s team at the Alzheimer’s Walk\, you’re not only helping raise funds for research and resources\, but you’re also showing our participants the power of giving back. Together\, we can learn\, support\, and inspire hope for a future without Alzheimer’s. \nCheck-In and Quick Registration begins at 7:30am\, Promise Garden Ceremony begins at 8:40am\, Walking the route starts at 9:00am\, Event ends at 11:00am. \n 
URL:https://arouetempowers.org/event/phoenix-walk-to-end-alzheimers/
LOCATION:Wesley Bolin Memorial Plaza\, 1700 E Washington Street\, AZ\, 85007\, United States
CATEGORIES:Community Events,Partner Events
END:VEVENT
BEGIN:VEVENT
DTSTART;TZID=America/Phoenix:20241010T110000
DTEND;TZID=America/Phoenix:20241010T160000
DTSTAMP:20260424T061557
CREATED:20240206T173605Z
LAST-MODIFIED:20240923T193106Z
UID:11872-1728558000-1728576000@arouetempowers.org
SUMMARY:Arouet Fair Chance Employer Symposium
DESCRIPTION:Summary \nAn impactful program that will provide information & guidance about fair chance hiring as well as celebrate leaders of the Fair Chance Movement who have been change makers for this crucial population.  \nThe symposium will include tips & resources necessary to successfully implement fair chance hiring policies that will open doors to a dedicated\, loyal\, and profitable workforce. \n  \nProgram \nChampions Luncheon 11AM – 1PM \nSummit Breakouts 1PM – 4PM \n  \nTickets & Sponsorship Information \n2024 Fair Chance Symposium
URL:https://arouetempowers.org/event/arouet-fair-chance-employer-symposium/
LOCATION:Arizona Biltmore\, 2400 E Missouri Ave\, Phoenix\, AZ\, 85016
CATEGORIES:Community Events,Partner Events,Workshops & Trainings
END:VEVENT
BEGIN:VEVENT
DTSTART;TZID=America/Phoenix:20240810T083000
DTEND;TZID=America/Phoenix:20240810T100000
DTSTAMP:20260424T061557
CREATED:20240705T210815Z
LAST-MODIFIED:20240705T210815Z
UID:12224-1723278600-1723284000@arouetempowers.org
SUMMARY:Annual Arouet Salt River Tubing Day
DESCRIPTION:Come join us at our annual Salt River tubing event!  \nWe will be out there to float\, have fun\, and build community. \n  \nLocation:\nSalt River Tubing\n9200 N Bush Hwy\, Mesa\, AZ 85215
URL:https://arouetempowers.org/event/annual-arouet-salt-river-tubing-day/
LOCATION:Salt River Tubing\, 9200 N. Bush Hwy.\, Mesa\, AZ\, 85215\, United States
CATEGORIES:Community Events
END:VEVENT
BEGIN:VEVENT
DTSTART;TZID=America/Phoenix:20231210T130000
DTEND;TZID=America/Phoenix:20231210T143000
DTSTAMP:20260424T061557
CREATED:20230914T190850Z
LAST-MODIFIED:20230914T190850Z
UID:11232-1702213200-1702218600@arouetempowers.org
SUMMARY:Yoga for Empowered Women at Arouet
DESCRIPTION:Please come out and join us for a gentle flow yoga class. All materials will be provided\, including mats\, blocks\, straps\, yoga props…… The only item suggested is that you bring your water bottle and a towel\, primarily to possibly cushion for sitting or under your knees. You will also receive a journal if you are brand new to the program.
URL:https://arouetempowers.org/event/yoga-for-empowered-women-at-arouet-12-10-23/
LOCATION:CO+HOOTS Phoenix\, 221 E Indianola Ave\, Phoenix\, AZ\, 85012\, United States
CATEGORIES:Community Events
ORGANIZER;CN="Blessings Balance Breath Yoga":MAILTO:Blessingsbalancebreathyoga@gmail.com
END:VEVENT
BEGIN:VEVENT
DTSTART;TZID=America/Phoenix:20231126T130000
DTEND;TZID=America/Phoenix:20231126T143000
DTSTAMP:20260424T061557
CREATED:20230914T190754Z
LAST-MODIFIED:20230914T190754Z
UID:11230-1701003600-1701009000@arouetempowers.org
SUMMARY:Yoga for Empowered Women at Arouet
DESCRIPTION:Please come out and join us for a gentle flow yoga class. All materials will be provided\, including mats\, blocks\, straps\, yoga props…… The only item suggested is that you bring your water bottle and a towel\, primarily to possibly cushion for sitting or under your knees. You will also receive a journal if you are brand new to the program.
URL:https://arouetempowers.org/event/yoga-for-empowered-women-at-arouet-11-26-23/
LOCATION:CO+HOOTS Phoenix\, 221 E Indianola Ave\, Phoenix\, AZ\, 85012\, United States
CATEGORIES:Community Events
ORGANIZER;CN="Blessings Balance Breath Yoga":MAILTO:Blessingsbalancebreathyoga@gmail.com
END:VEVENT
BEGIN:VEVENT
DTSTART;TZID=America/Phoenix:20231112T130000
DTEND;TZID=America/Phoenix:20231112T143000
DTSTAMP:20260424T061557
CREATED:20230914T190718Z
LAST-MODIFIED:20230914T190718Z
UID:11228-1699794000-1699799400@arouetempowers.org
SUMMARY:Yoga for Empowered Women at Arouet
DESCRIPTION:Please come out and join us for a gentle flow yoga class. All materials will be provided\, including mats\, blocks\, straps\, yoga props…… The only item suggested is that you bring your water bottle and a towel\, primarily to possibly cushion for sitting or under your knees. You will also receive a journal if you are brand new to the program.
URL:https://arouetempowers.org/event/yoga-for-empowered-women-at-arouet-11-12-23/
LOCATION:CO+HOOTS Phoenix\, 221 E Indianola Ave\, Phoenix\, AZ\, 85012\, United States
CATEGORIES:Community Events
ORGANIZER;CN="Blessings Balance Breath Yoga":MAILTO:Blessingsbalancebreathyoga@gmail.com
END:VEVENT
BEGIN:VEVENT
DTSTART;TZID=America/Phoenix:20231103T120000
DTEND;TZID=America/Phoenix:20231103T150000
DTSTAMP:20260424T061557
CREATED:20230829T185103Z
LAST-MODIFIED:20230829T222445Z
UID:10950-1699012800-1699023600@arouetempowers.org
SUMMARY:Fall Into a New Career
DESCRIPTION:Join Arouet Foundation for our Fall Into a New Career Job Fair! \nThe event will be held Friday\, November 3rd\, from 12:00 PM to 3:00 PM at CO+HOOTS Phoenix at 221 E Indianola Ave Phoenix\, AZ 85012 \nArouet is hosting a unique job fair experience to help justice-impacted job seekers map their career paths.
URL:https://arouetempowers.org/event/fall-into-a-new-career/
LOCATION:CO+HOOTS Phoenix\, 221 E Indianola Ave\, Phoenix\, AZ\, 85012\, United States
CATEGORIES:Community Events
END:VEVENT
BEGIN:VEVENT
DTSTART;TZID=America/Phoenix:20231029T130000
DTEND;TZID=America/Phoenix:20231029T143000
DTSTAMP:20260424T061557
CREATED:20230914T190559Z
LAST-MODIFIED:20230914T190559Z
UID:11226-1698584400-1698589800@arouetempowers.org
SUMMARY:Yoga for Empowered Women at Arouet
DESCRIPTION:Please come out and join us for a gentle flow yoga class. All materials will be provided\, including mats\, blocks\, straps\, yoga props…… The only item suggested is that you bring your water bottle and a towel\, primarily to possibly cushion for sitting or under your knees. You will also receive a journal if you are brand new to the program.
URL:https://arouetempowers.org/event/yoga-for-empowered-women-at-arouet-10-29-23/
LOCATION:CO+HOOTS Phoenix\, 221 E Indianola Ave\, Phoenix\, AZ\, 85012\, United States
CATEGORIES:Community Events
ORGANIZER;CN="Blessings Balance Breath Yoga":MAILTO:Blessingsbalancebreathyoga@gmail.com
END:VEVENT
BEGIN:VEVENT
DTSTART;TZID=America/Phoenix:20231028T130000
DTEND;TZID=America/Phoenix:20231028T160000
DTSTAMP:20260424T061557
CREATED:20230829T184706Z
LAST-MODIFIED:20230829T185213Z
UID:10949-1698498000-1698508800@arouetempowers.org
SUMMARY:Halloween BBQ @ Encanto Park
DESCRIPTION:
URL:https://arouetempowers.org/event/halloween-bbq-encanto-park/
LOCATION:Encanto Park\, 2605 N 15th Ave\, Phoenix\, AZ\, 85007\, United States
CATEGORIES:Community Events
ATTACH;FMTTYPE=image/png:https://arouetempowers.org/wp-content/uploads/2023/08/MicrosoftTeams-image-S.-Land.png
END:VEVENT
BEGIN:VEVENT
DTSTART;TZID=America/Phoenix:20231015T130000
DTEND;TZID=America/Phoenix:20231015T143000
DTSTAMP:20260424T061557
CREATED:20230914T190502Z
LAST-MODIFIED:20230914T190502Z
UID:11224-1697374800-1697380200@arouetempowers.org
SUMMARY:Yoga for Empowered Women at Arouet
DESCRIPTION:Please come out and join us for a gentle flow yoga class. All materials will be provided\, including mats\, blocks\, straps\, yoga props…… The only item suggested is that you bring your water bottle and a towel\, primarily to possibly cushion for sitting or under your knees. You will also receive a journal if you are brand new to the program.
URL:https://arouetempowers.org/event/yoga-for-empowered-women-at-arouet-10-15-23/
LOCATION:CO+HOOTS Phoenix\, 221 E Indianola Ave\, Phoenix\, AZ\, 85012\, United States
CATEGORIES:Community Events
ORGANIZER;CN="Blessings Balance Breath Yoga":MAILTO:Blessingsbalancebreathyoga@gmail.com
END:VEVENT
BEGIN:VEVENT
DTSTART;TZID=America/Phoenix:20231012T080000
DTEND;TZID=America/Phoenix:20231012T160000
DTSTAMP:20260424T061557
CREATED:20230929T222205Z
LAST-MODIFIED:20230929T222221Z
UID:11546-1697097600-1697126400@arouetempowers.org
SUMMARY:Bank on 100 Million: Arizona Hackathon
DESCRIPTION:The Bank on 100 Million Coalition\, powered by Mission: Launch\, Inc and in partnership with the ASU\, Watts College of Public Service and Community Solutions invite you to join us \nThursday\, October 12th from 8AM to 4PM at the\nA.E. England Building (424 N. Central Ave\, Phoenix\, AZ 85004). \nThe gathering will enable people with lived experience to be amplified as subject matter experts alongside government and policy leaders as well as business\, education\, and philanthropic professionals.
URL:https://arouetempowers.org/event/bank-on-100-million-arizona-hackathon/
LOCATION:A.E. England Building\, 424 N Central Ave\, Phoenix\, AZ\, 85004\, United States
CATEGORIES:Community Events
END:VEVENT
BEGIN:VEVENT
DTSTART;TZID=America/Phoenix:20231005T080000
DTEND;TZID=America/Phoenix:20231005T120000
DTSTAMP:20260424T061557
CREATED:20230914T185950Z
LAST-MODIFIED:20231002T192126Z
UID:11212-1696492800-1696507200@arouetempowers.org
SUMMARY:Fair Chance Employment Symposium 2023
DESCRIPTION:Join Arouet and our community partners this fall for the 2023 Fair Chance Employment Symposium\, an impactful morning event at the world-renowned Arizona Biltmore resort. Attendees will gain invaluable guidance about Fair Chance hiring practices from corporate leaders and policymakers that all businesses must have to become successful Fair Chance employers. \nThis year’s Symposium will include engaging and informative discussions on successfully implementing inclusive hiring policies that will open doors to a dedicated\, loyal\, and profitable workforce. Plus\, we’ll launch the release of our much-anticipated Arouet Fair Chance Employment Guidebook! \nThis incomparable\, game-changing event also features: \n\nA keynote presentation\nFair Chance educational materials from Arouet\, including digital resources\nRiveting panel discussions with Fair Chance policymakers\, influencers & leaders with lived experience\nA first-rate Biltmore breakfast\n\nVisit 2023 Fair Chance Employment Symposium for more details and ticket prices.
URL:https://arouetempowers.org/event/fair-chance-employment-symposium-2023/
LOCATION:Arizona Biltmore\, 2400 E Missouri Ave\, Phoenix\, AZ\, 85016
CATEGORIES:Community Events
END:VEVENT
BEGIN:VEVENT
DTSTART;TZID=America/Phoenix:20231001T130000
DTEND;TZID=America/Phoenix:20231001T143000
DTSTAMP:20260424T061557
CREATED:20230914T190328Z
LAST-MODIFIED:20230914T190328Z
UID:11222-1696165200-1696170600@arouetempowers.org
SUMMARY:Yoga for Empowered Women at Arouet
DESCRIPTION:Please come out and join us for a gentle flow yoga class. All materials will be provided\, including mats\, blocks\, straps\, yoga props…… The only item suggested is that you bring your water bottle and a towel\, primarily to possibly cushion for sitting or under your knees. You will also receive a journal if you are brand new to the program.
URL:https://arouetempowers.org/event/yoga-for-empowered-women-at-arouet-10-01-23/
LOCATION:CO+HOOTS Phoenix\, 221 E Indianola Ave\, Phoenix\, AZ\, 85012\, United States
CATEGORIES:Community Events
ORGANIZER;CN="Blessings Balance Breath Yoga":MAILTO:Blessingsbalancebreathyoga@gmail.com
END:VEVENT
BEGIN:VEVENT
DTSTART;TZID=America/Phoenix:20230917T130000
DTEND;TZID=America/Phoenix:20230917T143000
DTSTAMP:20260424T061557
CREATED:20230911T230711Z
LAST-MODIFIED:20230914T190400Z
UID:11200-1694955600-1694961000@arouetempowers.org
SUMMARY:Yoga for Empowered Women at Arouet
DESCRIPTION:Please come out and join us for a gentle flow yoga class. All materials will be provided\, including mats\, blocks\, straps\, yoga props…… The only item suggested is that you bring your water bottle and a towel\, primarily to possibly cushion for sitting or under your knees. You will also receive a journal if you are brand new to the program.
URL:https://arouetempowers.org/event/yoga-for-empowered-women-at-arouet-09-17-23/
LOCATION:CO+HOOTS Phoenix\, 221 E Indianola Ave\, Phoenix\, AZ\, 85012\, United States
CATEGORIES:Community Events
ORGANIZER;CN="Blessings Balance Breath Yoga":MAILTO:Blessingsbalancebreathyoga@gmail.com
END:VEVENT
BEGIN:VEVENT
DTSTART;TZID=America/Phoenix:20230812T090000
DTEND;TZID=America/Phoenix:20230812T130000
DTSTAMP:20260424T061557
CREATED:20230706T175522Z
LAST-MODIFIED:20230801T233331Z
UID:10236-1691830800-1691845200@arouetempowers.org
SUMMARY:Arouet Salt River Tubing
DESCRIPTION:Come join us for our August ‘Summer Vibe’ community event at Salt River Tubing
URL:https://arouetempowers.org/event/arouet-salt-river-tubing/
LOCATION:Salt River Tubing\, 9200 N. Bush Hwy.\, Mesa\, AZ\, 85215\, United States
CATEGORIES:Community Events
ATTACH;FMTTYPE=image/jpeg:https://arouetempowers.org/wp-content/uploads/2023/07/Salt-river-Arouet-Foundation_1200x630-40.jpg
END:VEVENT
BEGIN:VEVENT
DTSTART;TZID=America/Phoenix:20230729T163000
DTEND;TZID=America/Phoenix:20230729T190000
DTSTAMP:20260424T061557
CREATED:20230706T174504Z
LAST-MODIFIED:20230706T190837Z
UID:10227-1690648200-1690657200@arouetempowers.org
SUMMARY:Afternoon at the Movies
DESCRIPTION:Come join us for our July ‘Summer Vibes’ community event! Get out of the heat and enjoy movie and popcorn in a private theatre.
URL:https://arouetempowers.org/event/afternoon-at-the-movies/
LOCATION:Roadhouse Cinemas\, 9090 E. Indian Bend Rd\, Scottsdale\, AZ\, 85250\, United States
CATEGORIES:Community Events
ATTACH;FMTTYPE=image/jpeg:https://arouetempowers.org/wp-content/uploads/2023/07/movie-Arouet-Foundation_1200x630-20.jpg
END:VEVENT
BEGIN:VEVENT
DTSTART;VALUE=DATE:20190308
DTEND;VALUE=DATE:20190310
DTSTAMP:20260424T061557
CREATED:20190214T024809Z
LAST-MODIFIED:20190214T024809Z
UID:3349-1552071600-1552157999@arouetempowers.org
SUMMARY:Salute a Solider 5k
DESCRIPTION:
URL:https://arouetempowers.org/event/salute-a-solider-5k/
LOCATION:Freestone Park\, 1045 E Juniper Ave\, Gilbert\, AZ\, 85234\, United States
CATEGORIES:Community Events
END:VEVENT
BEGIN:VEVENT
DTSTART;VALUE=DATE:20190308
DTEND;VALUE=DATE:20190310
DTSTAMP:20260424T061557
CREATED:20190214T024809Z
LAST-MODIFIED:20190214T024809Z
UID:5231-1552071600-1552157999@arouetempowers.org
SUMMARY:Salute a Solider 5k
DESCRIPTION:
URL:https://arouetempowers.org/event/salute-a-solider-5k-2/
LOCATION:Freestone Park\, 1045 E Juniper Ave\, Gilbert\, AZ\, 85234\, United States
CATEGORIES:Community Events
END:VEVENT
BEGIN:VEVENT
DTSTART;VALUE=DATE:20190308
DTEND;VALUE=DATE:20190310
DTSTAMP:20260424T061557
CREATED:20190214T024809Z
LAST-MODIFIED:20190214T024809Z
UID:5294-1552071600-1552157999@arouetempowers.org
SUMMARY:Salute a Solider 5k
DESCRIPTION:
URL:https://arouetempowers.org/event/salute-a-solider-5k-3/
LOCATION:Freestone Park\, 1045 E Juniper Ave\, Gilbert\, AZ\, 85234\, United States
CATEGORIES:Community Events
END:VEVENT
END:VCALENDAR